BEGIN:VCALENDAR
VERSION:2.0
PRODID:-//Société Vaudoise d'Astronomie - ECPv6.15.20//NONSGML v1.0//EN
CALSCALE:GREGORIAN
METHOD:PUBLISH
X-WR-CALNAME:Société Vaudoise d'Astronomie
X-ORIGINAL-URL:https://svastro.ch
X-WR-CALDESC:Évènements pour Société Vaudoise d'Astronomie
REFRESH-INTERVAL;VALUE=DURATION:PT1H
X-Robots-Tag:noindex
X-PUBLISHED-TTL:PT1H
BEGIN:VTIMEZONE
TZID:Europe/Zurich
BEGIN:DAYLIGHT
TZOFFSETFROM:+0100
TZOFFSETTO:+0200
TZNAME:CEST
DTSTART:20220327T010000
END:DAYLIGHT
BEGIN:STANDARD
TZOFFSETFROM:+0200
TZOFFSETTO:+0100
TZNAME:CET
DTSTART:20221030T010000
END:STANDARD
BEGIN:DAYLIGHT
TZOFFSETFROM:+0100
TZOFFSETTO:+0200
TZNAME:CEST
DTSTART:20230326T010000
END:DAYLIGHT
BEGIN:STANDARD
TZOFFSETFROM:+0200
TZOFFSETTO:+0100
TZNAME:CET
DTSTART:20231029T010000
END:STANDARD
BEGIN:DAYLIGHT
TZOFFSETFROM:+0100
TZOFFSETTO:+0200
TZNAME:CEST
DTSTART:20240331T010000
END:DAYLIGHT
BEGIN:STANDARD
TZOFFSETFROM:+0200
TZOFFSETTO:+0100
TZNAME:CET
DTSTART:20241027T010000
END:STANDARD
END:VTIMEZONE
BEGIN:VEVENT
DTSTART;TZID=Europe/Zurich:20230405T200000
DTEND;TZID=Europe/Zurich:20230405T220000
DTSTAMP:20260423T104707
CREATED:20230110T145822Z
LAST-MODIFIED:20230111T210446Z
UID:2389-1680724800-1680732000@svastro.ch
SUMMARY:Soirée pour les membres
DESCRIPTION:Premier mercredi du mois\, on se retrouve pour discuter de l’actualité. Venez avec vos questions et/ou articles favoris.
URL:https://svastro.ch/event/soiree-pour-les-membres-15/
LOCATION:Observatoire\, Observatoire de Lausanne chemin des Grandes-Roches 8\, Lausanne\, 1008\, Suisse
CATEGORIES:Soirée membre
END:VEVENT
BEGIN:VEVENT
DTSTART;TZID=Europe/Zurich:20230407T210000
DTEND;TZID=Europe/Zurich:20230407T233000
DTSTAMP:20260423T104707
CREATED:20230110T145926Z
LAST-MODIFIED:20230111T210500Z
UID:2391-1680901200-1680910200@svastro.ch
SUMMARY:Soirée pour les membres - observations en campagne
DESCRIPTION:En cas de ciel dégagé uniquement.
URL:https://svastro.ch/event/soiree-pour-les-membres-observations-en-campagne-3/
LOCATION:Villars-Tiercelin\, Avenue du Général Guisan\, Villars-Tiercelin\, Vaud\, 1058\, Suisse
CATEGORIES:Soirée membre
END:VEVENT
BEGIN:VEVENT
DTSTART;TZID=Europe/Zurich:20230414T210000
DTEND;TZID=Europe/Zurich:20230414T230000
DTSTAMP:20260423T104707
CREATED:20230110T142920Z
LAST-MODIFIED:20230413T145512Z
UID:2323-1681506000-1681513200@svastro.ch
SUMMARY:Soirée publique annulée
DESCRIPTION:Les prévisions météo étant très défavorables\, cette soirée publique est annulée. L’observatoire sera fermé.
URL:https://svastro.ch/event/soiree-publique-69/
LOCATION:Observatoire\, Observatoire de Lausanne chemin des Grandes-Roches 8\, Lausanne\, 1008\, Suisse
CATEGORIES:Soirée publique
END:VEVENT
BEGIN:VEVENT
DTSTART;TZID=Europe/Zurich:20230419T200000
DTEND;TZID=Europe/Zurich:20230419T220000
DTSTAMP:20260423T104707
CREATED:20230110T150015Z
LAST-MODIFIED:20230418T090945Z
UID:2393-1681934400-1681941600@svastro.ch
SUMMARY:Soirée pour les membres
DESCRIPTION:Une soirée de partage autour des applications mobiles et logiciels astro que chacun·e utlise. Pensez à prendre votre laptop 🙂
URL:https://svastro.ch/event/soiree-pour-les-membres-16/
LOCATION:Observatoire\, Observatoire de Lausanne chemin des Grandes-Roches 8\, Lausanne\, 1008\, Suisse
CATEGORIES:Soirée membre
END:VEVENT
BEGIN:VEVENT
DTSTART;TZID=Europe/Zurich:20230428T210000
DTEND;TZID=Europe/Zurich:20230428T230000
DTSTAMP:20260423T104707
CREATED:20230110T143027Z
LAST-MODIFIED:20230428T081951Z
UID:2325-1682715600-1682722800@svastro.ch
SUMMARY:Soirée publique - ANNULÉ
DESCRIPTION:Pluie annoncée pour cette soirée\, l’observation ne sera pas possible.
URL:https://svastro.ch/event/soiree-publique-70/
LOCATION:Observatoire\, Observatoire de Lausanne chemin des Grandes-Roches 8\, Lausanne\, 1008\, Suisse
CATEGORIES:Soirée publique
END:VEVENT
END:VCALENDAR