BEGIN:VCALENDAR
VERSION:2.0
PRODID:-//Société Vaudoise d'Astronomie - ECPv6.15.20//NONSGML v1.0//EN
CALSCALE:GREGORIAN
METHOD:PUBLISH
X-ORIGINAL-URL:https://svastro.ch
X-WR-CALDESC:Évènements pour Société Vaudoise d'Astronomie
REFRESH-INTERVAL;VALUE=DURATION:PT1H
X-Robots-Tag:noindex
X-PUBLISHED-TTL:PT1H
BEGIN:VTIMEZONE
TZID:Europe/Zurich
BEGIN:DAYLIGHT
TZOFFSETFROM:+0100
TZOFFSETTO:+0200
TZNAME:CEST
DTSTART:20220327T010000
END:DAYLIGHT
BEGIN:STANDARD
TZOFFSETFROM:+0200
TZOFFSETTO:+0100
TZNAME:CET
DTSTART:20221030T010000
END:STANDARD
BEGIN:DAYLIGHT
TZOFFSETFROM:+0100
TZOFFSETTO:+0200
TZNAME:CEST
DTSTART:20230326T010000
END:DAYLIGHT
BEGIN:STANDARD
TZOFFSETFROM:+0200
TZOFFSETTO:+0100
TZNAME:CET
DTSTART:20231029T010000
END:STANDARD
BEGIN:DAYLIGHT
TZOFFSETFROM:+0100
TZOFFSETTO:+0200
TZNAME:CEST
DTSTART:20240331T010000
END:DAYLIGHT
BEGIN:STANDARD
TZOFFSETFROM:+0200
TZOFFSETTO:+0100
TZNAME:CET
DTSTART:20241027T010000
END:STANDARD
END:VTIMEZONE
BEGIN:VEVENT
DTSTART;TZID=Europe/Zurich:20230301T200000
DTEND;TZID=Europe/Zurich:20230301T220000
DTSTAMP:20260423T122706
CREATED:20230110T145119Z
LAST-MODIFIED:20230111T210159Z
UID:2381-1677700800-1677708000@svastro.ch
SUMMARY:Soirée pour les membres
DESCRIPTION:Premier mercredi du mois\, on se retrouve pour discuter de l’actualité. Venez avec vos questions et/ou articles favoris.
URL:https://svastro.ch/event/soiree-membres/
LOCATION:Observatoire\, Observatoire de Lausanne chemin des Grandes-Roches 8\, Lausanne\, 1008\, Suisse
CATEGORIES:Soirée membre
END:VEVENT
BEGIN:VEVENT
DTSTART;TZID=Europe/Zurich:20230303T210000
DTEND;TZID=Europe/Zurich:20230303T233000
DTSTAMP:20260423T122706
CREATED:20230110T145640Z
LAST-MODIFIED:20230111T210244Z
UID:2385-1677877200-1677886200@svastro.ch
SUMMARY:Soirée pour les membres - observations en campagne
DESCRIPTION:Par beau temps uniquement.
URL:https://svastro.ch/event/soiree-pour-les-membres-observations-en-campagne-2/
LOCATION:Villars-Tiercelin\, Avenue du Général Guisan\, Villars-Tiercelin\, Vaud\, 1058\, Suisse
CATEGORIES:Soirée membre
END:VEVENT
BEGIN:VEVENT
DTSTART;TZID=Europe/Zurich:20230310T210000
DTEND;TZID=Europe/Zurich:20230310T230000
DTSTAMP:20260423T122706
CREATED:20230110T142645Z
LAST-MODIFIED:20230111T210259Z
UID:2315-1678482000-1678489200@svastro.ch
SUMMARY:Soirée publique
DESCRIPTION:En cas de beau temps\, l’observatoire sera ouvert.
URL:https://svastro.ch/event/soiree-publique-65/
LOCATION:Observatoire\, Observatoire de Lausanne chemin des Grandes-Roches 8\, Lausanne\, 1008\, Suisse
CATEGORIES:Soirée publique
END:VEVENT
BEGIN:VEVENT
DTSTART;TZID=Europe/Zurich:20230315T200000
DTEND;TZID=Europe/Zurich:20230315T220000
DTSTAMP:20260423T122706
CREATED:20230110T145735Z
LAST-MODIFIED:20230111T210327Z
UID:2387-1678910400-1678917600@svastro.ch
SUMMARY:Soirée pour les membres
DESCRIPTION:Programme à définir.
URL:https://svastro.ch/event/soiree-pour-les-membres-14/
LOCATION:Observatoire\, Observatoire de Lausanne chemin des Grandes-Roches 8\, Lausanne\, 1008\, Suisse
CATEGORIES:Soirée membre
END:VEVENT
BEGIN:VEVENT
DTSTART;TZID=Europe/Zurich:20230317T203000
DTEND;TZID=Europe/Zurich:20230317T230000
DTSTAMP:20260423T122706
CREATED:20230110T142715Z
LAST-MODIFIED:20230317T163027Z
UID:2317-1679085000-1679094000@svastro.ch
SUMMARY:Soirée publique - Observatoire ouvert !
DESCRIPTION:Observatoire ouvert. Vous êtes les bienvenus ! \nPrésentation à 20h30 sur « Les Etoiles » par un animateur de la SVA. \nObservation au télescope si le ciel le permet (risque de nuages d’altitude !).
URL:https://svastro.ch/event/soiree-publique-66/
LOCATION:Observatoire\, Observatoire de Lausanne chemin des Grandes-Roches 8\, Lausanne\, 1008\, Suisse
CATEGORIES:Soirée publique
END:VEVENT
BEGIN:VEVENT
DTSTART;TZID=Europe/Zurich:20230324T210000
DTEND;TZID=Europe/Zurich:20230324T230000
DTSTAMP:20260423T122706
CREATED:20230110T142746Z
LAST-MODIFIED:20230324T193956Z
UID:2319-1679691600-1679698800@svastro.ch
SUMMARY:Soirée publique - ANNULEE
DESCRIPTION:Pluie en prévision
URL:https://svastro.ch/event/soiree-publique-67/
LOCATION:Observatoire\, Observatoire de Lausanne chemin des Grandes-Roches 8\, Lausanne\, 1008\, Suisse
CATEGORIES:Soirée publique
END:VEVENT
BEGIN:VEVENT
DTSTART;TZID=Europe/Zurich:20230331T210000
DTEND;TZID=Europe/Zurich:20230331T230000
DTSTAMP:20260423T122706
CREATED:20230110T142823Z
LAST-MODIFIED:20230111T210428Z
UID:2321-1680296400-1680303600@svastro.ch
SUMMARY:Soirée publique
DESCRIPTION:En cas de beau temps\, l’observatoire sera ouvert.
URL:https://svastro.ch/event/soiree-publique-68/
LOCATION:Observatoire\, Observatoire de Lausanne chemin des Grandes-Roches 8\, Lausanne\, 1008\, Suisse
CATEGORIES:Soirée publique
END:VEVENT
END:VCALENDAR