BEGIN:VCALENDAR
VERSION:2.0
PRODID:-//Société Vaudoise d'Astronomie - ECPv6.15.20//NONSGML v1.0//EN
CALSCALE:GREGORIAN
METHOD:PUBLISH
X-ORIGINAL-URL:https://svastro.ch
X-WR-CALDESC:Évènements pour Société Vaudoise d'Astronomie
REFRESH-INTERVAL;VALUE=DURATION:PT1H
X-Robots-Tag:noindex
X-PUBLISHED-TTL:PT1H
BEGIN:VTIMEZONE
TZID:Europe/Zurich
BEGIN:DAYLIGHT
TZOFFSETFROM:+0100
TZOFFSETTO:+0200
TZNAME:CEST
DTSTART:20220327T010000
END:DAYLIGHT
BEGIN:STANDARD
TZOFFSETFROM:+0200
TZOFFSETTO:+0100
TZNAME:CET
DTSTART:20221030T010000
END:STANDARD
BEGIN:DAYLIGHT
TZOFFSETFROM:+0100
TZOFFSETTO:+0200
TZNAME:CEST
DTSTART:20230326T010000
END:DAYLIGHT
BEGIN:STANDARD
TZOFFSETFROM:+0200
TZOFFSETTO:+0100
TZNAME:CET
DTSTART:20231029T010000
END:STANDARD
BEGIN:DAYLIGHT
TZOFFSETFROM:+0100
TZOFFSETTO:+0200
TZNAME:CEST
DTSTART:20240331T010000
END:DAYLIGHT
BEGIN:STANDARD
TZOFFSETFROM:+0200
TZOFFSETTO:+0100
TZNAME:CET
DTSTART:20241027T010000
END:STANDARD
END:VTIMEZONE
BEGIN:VEVENT
DTSTART;TZID=Europe/Zurich:20230201T200000
DTEND;TZID=Europe/Zurich:20230201T220000
DTSTAMP:20260423T141146
CREATED:20230110T142305Z
LAST-MODIFIED:20230111T210028Z
UID:2306-1675281600-1675288800@svastro.ch
SUMMARY:Soirée pour les membres
DESCRIPTION:Premier mercredi du mois\, on se retrouve pour discuter de l’actualité. Venez avec vos questions et/ou articles favoris.
URL:https://svastro.ch/event/soiree-pour-les-membres-13/
LOCATION:Observatoire\, Observatoire de Lausanne chemin des Grandes-Roches 8\, Lausanne\, 1008\, Suisse
CATEGORIES:Soirée membre
END:VEVENT
BEGIN:VEVENT
DTSTART;TZID=Europe/Zurich:20230203T210000
DTEND;TZID=Europe/Zurich:20230203T233000
DTSTAMP:20260423T141146
CREATED:20230110T124833Z
LAST-MODIFIED:20230111T210042Z
UID:2304-1675458000-1675467000@svastro.ch
SUMMARY:Soirée pour les membres - observations en campagne
DESCRIPTION:En cas de beau temps uniquement.
URL:https://svastro.ch/event/soiree-pour-les-membres-observations-en-campagne/
LOCATION:Villars-Tiercelin\, Avenue du Général Guisan\, Villars-Tiercelin\, Vaud\, 1058\, Suisse
CATEGORIES:Soirée membre
END:VEVENT
BEGIN:VEVENT
DTSTART;TZID=Europe/Zurich:20230210T203000
DTEND;TZID=Europe/Zurich:20230210T233000
DTSTAMP:20260423T141146
CREATED:20230110T142439Z
LAST-MODIFIED:20230210T122417Z
UID:2309-1676061000-1676071800@svastro.ch
SUMMARY:Soirée publique - observatoire ouvert !
DESCRIPTION:Explications sur le ciel de cette nuit\, comètes\, étoiles\, etc… \nA voir ce soir en principe: Lune\, Jupiter\, Mars et\, tout proche\, Comète C2022 E3 (ZTF)\, nébuleuse d’Orion\, Galaxies (M81/M82/M31) et d’autres objets célestes.
URL:https://svastro.ch/event/soiree-publique-62/
LOCATION:Observatoire\, Observatoire de Lausanne chemin des Grandes-Roches 8\, Lausanne\, 1008\, Suisse
CATEGORIES:Soirée publique
END:VEVENT
BEGIN:VEVENT
DTSTART;TZID=Europe/Zurich:20230215T200000
DTEND;TZID=Europe/Zurich:20230215T220000
DTSTAMP:20260423T141146
CREATED:20230110T145012Z
LAST-MODIFIED:20230215T173451Z
UID:2379-1676491200-1676498400@svastro.ch
SUMMARY:Soirée pour les membres
DESCRIPTION:Pour cette soirée des membres\, je vous invite à essayer la réalité virtuelle (casque HTC Vive) au travers de quelques applications qui valent vraiment le détour.\nIl y aura notamment le simulateur « Space Engine »\, qui permet de naviguer dans notre galaxie et au delà.
URL:https://svastro.ch/event/soiree-membre-36/
LOCATION:Observatoire\, Observatoire de Lausanne chemin des Grandes-Roches 8\, Lausanne\, 1008\, Suisse
CATEGORIES:Soirée membre
END:VEVENT
BEGIN:VEVENT
DTSTART;TZID=Europe/Zurich:20230217T203000
DTEND;TZID=Europe/Zurich:20230217T230000
DTSTAMP:20260423T141146
CREATED:20230110T142535Z
LAST-MODIFIED:20230216T103648Z
UID:2311-1676665800-1676674800@svastro.ch
SUMMARY:Soirée publique & Conférence sur Mars
DESCRIPTION:Ce vendredi\, nous vous proposons un conférence sur la planète Mars animée par Daniel Vuilleumier dès 20h30 (à lieu par tous les temps). \nEnsuite\, si le temps le permet\, nous continuerons avec des observations du ciel\, sinon nous serons là pour répondre à toutes vos questions. \nAu plaisir de vous voir lors de cette soirée
URL:https://svastro.ch/event/soiree-publique-63/
LOCATION:Observatoire\, Observatoire de Lausanne chemin des Grandes-Roches 8\, Lausanne\, 1008\, Suisse
CATEGORIES:Soirée publique
END:VEVENT
BEGIN:VEVENT
DTSTART;TZID=Europe/Zurich:20230224T210000
DTEND;TZID=Europe/Zurich:20230224T230000
DTSTAMP:20260423T141146
CREATED:20230110T142604Z
LAST-MODIFIED:20230111T210142Z
UID:2313-1677272400-1677279600@svastro.ch
SUMMARY:Soirée publique
DESCRIPTION:En cas de beau temps\, l’observatoire sera ouvert.
URL:https://svastro.ch/event/soiree-publique-64/
LOCATION:Observatoire\, Observatoire de Lausanne chemin des Grandes-Roches 8\, Lausanne\, 1008\, Suisse
CATEGORIES:Soirée publique
END:VEVENT
END:VCALENDAR