BEGIN:VCALENDAR
VERSION:2.0
PRODID:-//Société Vaudoise d'Astronomie - ECPv6.15.20//NONSGML v1.0//EN
CALSCALE:GREGORIAN
METHOD:PUBLISH
X-WR-CALNAME:Société Vaudoise d'Astronomie
X-ORIGINAL-URL:https://svastro.ch
X-WR-CALDESC:Évènements pour Société Vaudoise d'Astronomie
REFRESH-INTERVAL;VALUE=DURATION:PT1H
X-Robots-Tag:noindex
X-PUBLISHED-TTL:PT1H
BEGIN:VTIMEZONE
TZID:Europe/Zurich
BEGIN:DAYLIGHT
TZOFFSETFROM:+0100
TZOFFSETTO:+0200
TZNAME:CEST
DTSTART:20210328T010000
END:DAYLIGHT
BEGIN:STANDARD
TZOFFSETFROM:+0200
TZOFFSETTO:+0100
TZNAME:CET
DTSTART:20211031T010000
END:STANDARD
BEGIN:DAYLIGHT
TZOFFSETFROM:+0100
TZOFFSETTO:+0200
TZNAME:CEST
DTSTART:20220327T010000
END:DAYLIGHT
BEGIN:STANDARD
TZOFFSETFROM:+0200
TZOFFSETTO:+0100
TZNAME:CET
DTSTART:20221030T010000
END:STANDARD
BEGIN:DAYLIGHT
TZOFFSETFROM:+0100
TZOFFSETTO:+0200
TZNAME:CEST
DTSTART:20230326T010000
END:DAYLIGHT
BEGIN:STANDARD
TZOFFSETFROM:+0200
TZOFFSETTO:+0100
TZNAME:CET
DTSTART:20231029T010000
END:STANDARD
END:VTIMEZONE
BEGIN:VEVENT
DTSTART;TZID=Europe/Zurich:20221202T190000
DTEND;TZID=Europe/Zurich:20221202T210000
DTSTAMP:20260423T175311
CREATED:20221115T091551Z
LAST-MODIFIED:20221115T091551Z
UID:2276-1670007600-1670014800@svastro.ch
SUMMARY:Assemblée générale 2022
DESCRIPTION:
URL:https://svastro.ch/event/assemblee-generale-2022/
LOCATION:Observatoire\, Observatoire de Lausanne chemin des Grandes-Roches 8\, Lausanne\, 1008\, Suisse
END:VEVENT
BEGIN:VEVENT
DTSTART;TZID=Europe/Zurich:20221207T180000
DTEND;TZID=Europe/Zurich:20221207T180000
DTSTAMP:20260423T175311
CREATED:20220407T170038Z
LAST-MODIFIED:20221125T115814Z
UID:2262-1670436000-1670436000@svastro.ch
SUMMARY:Soirée membres - petit Noël
DESCRIPTION:Repas canadien à l’observatoire. Merci de vous inscrire.
URL:https://svastro.ch/event/soiree-membres-petit-noel/
CATEGORIES:Soirée membre
END:VEVENT
BEGIN:VEVENT
DTSTART;TZID=Europe/Zurich:20221209T200000
DTEND;TZID=Europe/Zurich:20221209T223000
DTSTAMP:20260423T175311
CREATED:20220604T055535Z
LAST-MODIFIED:20221208T082629Z
UID:2065-1670616000-1670625000@svastro.ch
SUMMARY:Soirée publique - ANNULÉE
DESCRIPTION:L’observation n’est pas possible à cause de la mauvaise météo
URL:https://svastro.ch/event/soiree-publique-56/
LOCATION:Observatoire\, Observatoire de Lausanne chemin des Grandes-Roches 8\, Lausanne\, 1008\, Suisse
CATEGORIES:Soirée publique
END:VEVENT
BEGIN:VEVENT
DTSTART;TZID=Europe/Zurich:20221216T200000
DTEND;TZID=Europe/Zurich:20221216T223000
DTSTAMP:20260423T175311
CREATED:20220604T055605Z
LAST-MODIFIED:20221216T085307Z
UID:2067-1671220800-1671229800@svastro.ch
SUMMARY:Soirée publique - ANNULÉE
DESCRIPTION:La météo ne permet pas l’observation.
URL:https://svastro.ch/event/soiree-publique-57/
LOCATION:Observatoire\, Observatoire de Lausanne chemin des Grandes-Roches 8\, Lausanne\, 1008\, Suisse
CATEGORIES:Soirée publique
END:VEVENT
BEGIN:VEVENT
DTSTART;TZID=Europe/Zurich:20221221T190000
DTEND;TZID=Europe/Zurich:20221221T210000
DTSTAMP:20260423T175311
CREATED:20220604T061731Z
LAST-MODIFIED:20221108T115040Z
UID:2101-1671649200-1671656400@svastro.ch
SUMMARY:Soirée pour les membres - Annulée
DESCRIPTION:Soirée annulée\, trop près de Noël.
URL:https://svastro.ch/event/soiree-pour-les-membres-11/
LOCATION:Observatoire\, Observatoire de Lausanne chemin des Grandes-Roches 8\, Lausanne\, 1008\, Suisse
CATEGORIES:Soirée membre
END:VEVENT
BEGIN:VEVENT
DTSTART;TZID=Europe/Zurich:20221223T200000
DTEND;TZID=Europe/Zurich:20221223T223000
DTSTAMP:20260423T175311
CREATED:20220604T055636Z
LAST-MODIFIED:20221208T082749Z
UID:2069-1671825600-1671834600@svastro.ch
SUMMARY:Soirée publique - PAS DE SOIRÉE
DESCRIPTION:Nos animateurs passent les fêtes en familles\, pas de soirée ce vendredi.
URL:https://svastro.ch/event/soiree-publique-58/
LOCATION:Observatoire\, Observatoire de Lausanne chemin des Grandes-Roches 8\, Lausanne\, 1008\, Suisse
CATEGORIES:Soirée publique
END:VEVENT
BEGIN:VEVENT
DTSTART;TZID=Europe/Zurich:20221230T210000
DTEND;TZID=Europe/Zurich:20221230T230000
DTSTAMP:20260423T175311
CREATED:20220604T055700Z
LAST-MODIFIED:20221230T130445Z
UID:2071-1672434000-1672441200@svastro.ch
SUMMARY:Soirée publique - ANNULÉ
DESCRIPTION:Mauvaise météo\, l’observation n’est pas possible.
URL:https://svastro.ch/event/soiree-publique-59/
LOCATION:Observatoire\, Observatoire de Lausanne chemin des Grandes-Roches 8\, Lausanne\, 1008\, Suisse
CATEGORIES:Soirée publique
END:VEVENT
END:VCALENDAR