BEGIN:VCALENDAR
VERSION:2.0
PRODID:-//Société Vaudoise d'Astronomie - ECPv6.15.20//NONSGML v1.0//EN
CALSCALE:GREGORIAN
METHOD:PUBLISH
X-WR-CALNAME:Société Vaudoise d'Astronomie
X-ORIGINAL-URL:https://svastro.ch
X-WR-CALDESC:Évènements pour Société Vaudoise d'Astronomie
REFRESH-INTERVAL;VALUE=DURATION:PT1H
X-Robots-Tag:noindex
X-PUBLISHED-TTL:PT1H
BEGIN:VTIMEZONE
TZID:Europe/Zurich
BEGIN:DAYLIGHT
TZOFFSETFROM:+0100
TZOFFSETTO:+0200
TZNAME:CEST
DTSTART:20210328T010000
END:DAYLIGHT
BEGIN:STANDARD
TZOFFSETFROM:+0200
TZOFFSETTO:+0100
TZNAME:CET
DTSTART:20211031T010000
END:STANDARD
BEGIN:DAYLIGHT
TZOFFSETFROM:+0100
TZOFFSETTO:+0200
TZNAME:CEST
DTSTART:20220327T010000
END:DAYLIGHT
BEGIN:STANDARD
TZOFFSETFROM:+0200
TZOFFSETTO:+0100
TZNAME:CET
DTSTART:20221030T010000
END:STANDARD
BEGIN:DAYLIGHT
TZOFFSETFROM:+0100
TZOFFSETTO:+0200
TZNAME:CEST
DTSTART:20230326T010000
END:DAYLIGHT
BEGIN:STANDARD
TZOFFSETFROM:+0200
TZOFFSETTO:+0100
TZNAME:CET
DTSTART:20231029T010000
END:STANDARD
END:VTIMEZONE
BEGIN:VEVENT
DTSTART;TZID=Europe/Zurich:20220907T190000
DTEND;TZID=Europe/Zurich:20220907T210000
DTSTAMP:20260423T230119
CREATED:20220604T060803Z
LAST-MODIFIED:20220907T164459Z
UID:2081-1662577200-1662584400@svastro.ch
SUMMARY:Soirée pour les membres - ANNULE
DESCRIPTION:Annulation à cause de l’orage. \n  \nPremier mercredi du mois\, on se retrouve pour discuter de l’actualité. Venez avec vos questions et/ou articles favoris.
URL:https://svastro.ch/event/soiree-pour-les-membres-3/
LOCATION:Observatoire\, Observatoire de Lausanne chemin des Grandes-Roches 8\, Lausanne\, 1008\, Suisse
CATEGORIES:Soirée membre
END:VEVENT
BEGIN:VEVENT
DTSTART;TZID=Europe/Zurich:20220909T200000
DTEND;TZID=Europe/Zurich:20220909T215900
DTSTAMP:20260423T230119
CREATED:20220604T055047Z
LAST-MODIFIED:20220909T064310Z
UID:2045-1662753600-1662760740@svastro.ch
SUMMARY:Soirée publique - ANNULÉ
DESCRIPTION:Annulé pour cause de mauvaise météo
URL:https://svastro.ch/event/soiree-publique-46/
LOCATION:Observatoire\, Observatoire de Lausanne chemin des Grandes-Roches 8\, Lausanne\, 1008\, Suisse
CATEGORIES:Soirée publique
END:VEVENT
BEGIN:VEVENT
DTSTART;TZID=Europe/Zurich:20220916T200000
DTEND;TZID=Europe/Zurich:20220916T215900
DTSTAMP:20260423T230119
CREATED:20220604T055112Z
LAST-MODIFIED:20220915T064311Z
UID:2047-1663358400-1663365540@svastro.ch
SUMMARY:Soirée publique - ANNULÉ
DESCRIPTION:Mauvaise météo\, l’observation n’est pas possible
URL:https://svastro.ch/event/soiree-publique-47/
LOCATION:Observatoire\, Observatoire de Lausanne chemin des Grandes-Roches 8\, Lausanne\, 1008\, Suisse
CATEGORIES:Soirée publique
END:VEVENT
BEGIN:VEVENT
DTSTART;TZID=Europe/Zurich:20220921T190000
DTEND;TZID=Europe/Zurich:20220921T210000
DTSTAMP:20260423T230119
CREATED:20220604T061524Z
LAST-MODIFIED:20220604T061524Z
UID:2095-1663786800-1663794000@svastro.ch
SUMMARY:Soirée pour les membres
DESCRIPTION:Infos de la soirée à venir.
URL:https://svastro.ch/event/soiree-pour-les-membres-8/
LOCATION:Observatoire\, Observatoire de Lausanne chemin des Grandes-Roches 8\, Lausanne\, 1008\, Suisse
CATEGORIES:Soirée membre
END:VEVENT
BEGIN:VEVENT
DTSTART;TZID=Europe/Zurich:20220923T200000
DTEND;TZID=Europe/Zurich:20220923T215900
DTSTAMP:20260423T230119
CREATED:20220604T055138Z
LAST-MODIFIED:20220922T060457Z
UID:2049-1663963200-1663970340@svastro.ch
SUMMARY:Soirée publique - ANNULÉ
DESCRIPTION:La météo s’annonce couverte\, l’observation ne sera donc pas possible.
URL:https://svastro.ch/event/soiree-publique-48/
LOCATION:Observatoire\, Observatoire de Lausanne chemin des Grandes-Roches 8\, Lausanne\, 1008\, Suisse
CATEGORIES:Soirée publique
END:VEVENT
BEGIN:VEVENT
DTSTART;TZID=Europe/Zurich:20220930T200000
DTEND;TZID=Europe/Zurich:20220930T215900
DTSTAMP:20260423T230119
CREATED:20220604T055205Z
LAST-MODIFIED:20220930T095930Z
UID:2051-1664568000-1664575140@svastro.ch
SUMMARY:Soirée publique - ANNULÉ
DESCRIPTION:Mauvaise météo annoncée\, l’observation ne sera pas possible.
URL:https://svastro.ch/event/soiree-publique-49/
LOCATION:Observatoire\, Observatoire de Lausanne chemin des Grandes-Roches 8\, Lausanne\, 1008\, Suisse
CATEGORIES:Soirée publique
END:VEVENT
END:VCALENDAR