BEGIN:VCALENDAR
VERSION:2.0
PRODID:-//Société Vaudoise d'Astronomie - ECPv6.15.20//NONSGML v1.0//EN
CALSCALE:GREGORIAN
METHOD:PUBLISH
X-ORIGINAL-URL:https://svastro.ch
X-WR-CALDESC:Évènements pour Société Vaudoise d'Astronomie
REFRESH-INTERVAL;VALUE=DURATION:PT1H
X-Robots-Tag:noindex
X-PUBLISHED-TTL:PT1H
BEGIN:VTIMEZONE
TZID:Europe/Zurich
BEGIN:DAYLIGHT
TZOFFSETFROM:+0100
TZOFFSETTO:+0200
TZNAME:CEST
DTSTART:20210328T010000
END:DAYLIGHT
BEGIN:STANDARD
TZOFFSETFROM:+0200
TZOFFSETTO:+0100
TZNAME:CET
DTSTART:20211031T010000
END:STANDARD
BEGIN:DAYLIGHT
TZOFFSETFROM:+0100
TZOFFSETTO:+0200
TZNAME:CEST
DTSTART:20220327T010000
END:DAYLIGHT
BEGIN:STANDARD
TZOFFSETFROM:+0200
TZOFFSETTO:+0100
TZNAME:CET
DTSTART:20221030T010000
END:STANDARD
BEGIN:DAYLIGHT
TZOFFSETFROM:+0100
TZOFFSETTO:+0200
TZNAME:CEST
DTSTART:20230326T010000
END:DAYLIGHT
BEGIN:STANDARD
TZOFFSETFROM:+0200
TZOFFSETTO:+0100
TZNAME:CET
DTSTART:20231029T010000
END:STANDARD
END:VTIMEZONE
BEGIN:VEVENT
DTSTART;TZID=Europe/Zurich:20220803T190000
DTEND;TZID=Europe/Zurich:20220803T210000
DTSTAMP:20260424T004524
CREATED:20220604T060734Z
LAST-MODIFIED:20220803T085533Z
UID:2078-1659553200-1659560400@svastro.ch
SUMMARY:Soirée pour les membres - Annulée
DESCRIPTION:Vacances + Covid\, on se retrouve à la prochaine soirée!
URL:https://svastro.ch/event/soiree-pour-les-membres-2/
LOCATION:Observatoire\, Observatoire de Lausanne chemin des Grandes-Roches 8\, Lausanne\, 1008\, Suisse
CATEGORIES:Soirée membre
END:VEVENT
BEGIN:VEVENT
DTSTART;TZID=Europe/Zurich:20220812T193000
DTEND;TZID=Europe/Zurich:20220812T215900
DTSTAMP:20260424T004524
CREATED:20220604T054910Z
LAST-MODIFIED:20220803T094331Z
UID:2039-1660332600-1660341540@svastro.ch
SUMMARY:Étoiles filantes et concert
DESCRIPTION:Venez assistez à un concert sous les étoiles\, suivi d’observation à l’occasion de la pluie d’étoiles filantes de Perséides. \nVeuillez vous inscrire ci-dessous (entrée gratuite) \nConcert
URL:https://svastro.ch/event/soiree-publique-43/
LOCATION:Observatoire\, Observatoire de Lausanne chemin des Grandes-Roches 8\, Lausanne\, 1008\, Suisse
CATEGORIES:Soirée publique
END:VEVENT
BEGIN:VEVENT
DTSTART;TZID=Europe/Zurich:20220817T190000
DTEND;TZID=Europe/Zurich:20220817T210000
DTSTAMP:20260424T004524
CREATED:20220604T061447Z
LAST-MODIFIED:20220817T165201Z
UID:2093-1660762800-1660770000@svastro.ch
SUMMARY:Soirée pour les membres - Reportée
DESCRIPTION:Venez découvrir l’univers comme vous ne l’avez jamais vu\, grâce à la réalité virtuelle. \n  \nSoirée reportée: la météo rend difficile le transport du matériel
URL:https://svastro.ch/event/soiree-pour-les-membres-7/
LOCATION:Observatoire\, Observatoire de Lausanne chemin des Grandes-Roches 8\, Lausanne\, 1008\, Suisse
CATEGORIES:Soirée membre
END:VEVENT
BEGIN:VEVENT
DTSTART;TZID=Europe/Zurich:20220819T200000
DTEND;TZID=Europe/Zurich:20220819T215900
DTSTAMP:20260424T004524
CREATED:20220604T054936Z
LAST-MODIFIED:20220819T132921Z
UID:2041-1660939200-1660946340@svastro.ch
SUMMARY:Soirée publique - Annulée
DESCRIPTION:Mauvaise météo
URL:https://svastro.ch/event/soiree-publique-44/
LOCATION:Observatoire\, Observatoire de Lausanne chemin des Grandes-Roches 8\, Lausanne\, 1008\, Suisse
CATEGORIES:Soirée publique
END:VEVENT
BEGIN:VEVENT
DTSTART;TZID=Europe/Zurich:20220826T200000
DTEND;TZID=Europe/Zurich:20220826T215900
DTSTAMP:20260424T004524
CREATED:20220604T055005Z
LAST-MODIFIED:20220823T064651Z
UID:2043-1661544000-1661551140@svastro.ch
SUMMARY:Soirée publique - ANNULÉ
DESCRIPTION:Athletissima a lieu\, donc l’accès à l’observatoire n’est pas possible.
URL:https://svastro.ch/event/soiree-publique-45/
LOCATION:Observatoire\, Observatoire de Lausanne chemin des Grandes-Roches 8\, Lausanne\, 1008\, Suisse
CATEGORIES:Soirée publique
END:VEVENT
END:VCALENDAR