BEGIN:VCALENDAR
VERSION:2.0
PRODID:-//Société Vaudoise d'Astronomie - ECPv6.15.20//NONSGML v1.0//EN
CALSCALE:GREGORIAN
METHOD:PUBLISH
X-ORIGINAL-URL:https://svastro.ch
X-WR-CALDESC:Évènements pour Société Vaudoise d'Astronomie
REFRESH-INTERVAL;VALUE=DURATION:PT1H
X-Robots-Tag:noindex
X-PUBLISHED-TTL:PT1H
BEGIN:VTIMEZONE
TZID:Europe/Zurich
BEGIN:DAYLIGHT
TZOFFSETFROM:+0100
TZOFFSETTO:+0200
TZNAME:CEST
DTSTART:20210328T010000
END:DAYLIGHT
BEGIN:STANDARD
TZOFFSETFROM:+0200
TZOFFSETTO:+0100
TZNAME:CET
DTSTART:20211031T010000
END:STANDARD
BEGIN:DAYLIGHT
TZOFFSETFROM:+0100
TZOFFSETTO:+0200
TZNAME:CEST
DTSTART:20220327T010000
END:DAYLIGHT
BEGIN:STANDARD
TZOFFSETFROM:+0200
TZOFFSETTO:+0100
TZNAME:CET
DTSTART:20221030T010000
END:STANDARD
BEGIN:DAYLIGHT
TZOFFSETFROM:+0100
TZOFFSETTO:+0200
TZNAME:CEST
DTSTART:20230326T010000
END:DAYLIGHT
BEGIN:STANDARD
TZOFFSETFROM:+0200
TZOFFSETTO:+0100
TZNAME:CET
DTSTART:20231029T010000
END:STANDARD
END:VTIMEZONE
BEGIN:VEVENT
DTSTART;TZID=Europe/Zurich:20220706T190000
DTEND;TZID=Europe/Zurich:20220706T210000
DTSTAMP:20260424T021344
CREATED:20220604T060703Z
LAST-MODIFIED:20220604T060703Z
UID:2076-1657134000-1657141200@svastro.ch
SUMMARY:Soirée pour les membres
DESCRIPTION:Premier mercredi du mois\, on se retrouve pour discuter de l’actualité. Venez avec vos questions et/ou articles favoris.
URL:https://svastro.ch/event/soiree-pour-les-membres/
LOCATION:Observatoire\, Observatoire de Lausanne chemin des Grandes-Roches 8\, Lausanne\, 1008\, Suisse
CATEGORIES:Soirée membre
END:VEVENT
BEGIN:VEVENT
DTSTART;TZID=Europe/Zurich:20220708T200000
DTEND;TZID=Europe/Zurich:20220708T215900
DTSTAMP:20260424T021344
CREATED:20220604T054652Z
LAST-MODIFIED:20220707T063240Z
UID:2029-1657310400-1657317540@svastro.ch
SUMMARY:Soirée publique
DESCRIPTION:Observatoire ouvert ce vendredi.
URL:https://svastro.ch/event/soiree-publique-38/
LOCATION:Observatoire\, Observatoire de Lausanne chemin des Grandes-Roches 8\, Lausanne\, 1008\, Suisse
CATEGORIES:Soirée publique
END:VEVENT
BEGIN:VEVENT
DTSTART;TZID=Europe/Zurich:20220715T200000
DTEND;TZID=Europe/Zurich:20220715T215900
DTSTAMP:20260424T021344
CREATED:20220604T054717Z
LAST-MODIFIED:20220715T083754Z
UID:2031-1657915200-1657922340@svastro.ch
SUMMARY:Soirée publique
DESCRIPTION:La soirée a bien lieu.
URL:https://svastro.ch/event/soiree-publique-39/
LOCATION:Observatoire\, Observatoire de Lausanne chemin des Grandes-Roches 8\, Lausanne\, 1008\, Suisse
CATEGORIES:Soirée publique
END:VEVENT
BEGIN:VEVENT
DTSTART;TZID=Europe/Zurich:20220720T190000
DTEND;TZID=Europe/Zurich:20220720T210000
DTSTAMP:20260424T021344
CREATED:20220604T061418Z
LAST-MODIFIED:20220604T061418Z
UID:2091-1658343600-1658350800@svastro.ch
SUMMARY:Soirée pour les membres
DESCRIPTION:Infos de la soirée à venir.
URL:https://svastro.ch/event/soiree-pour-les-membres-6/
LOCATION:Observatoire\, Observatoire de Lausanne chemin des Grandes-Roches 8\, Lausanne\, 1008\, Suisse
CATEGORIES:Soirée membre
END:VEVENT
BEGIN:VEVENT
DTSTART;TZID=Europe/Zurich:20220722T200000
DTEND;TZID=Europe/Zurich:20220722T215900
DTSTAMP:20260424T021344
CREATED:20220604T054809Z
LAST-MODIFIED:20220722T100326Z
UID:2035-1658520000-1658527140@svastro.ch
SUMMARY:Soirée publique - Annulée
DESCRIPTION:Mauvaise météo.
URL:https://svastro.ch/event/soiree-publique-41/
LOCATION:Observatoire\, Observatoire de Lausanne chemin des Grandes-Roches 8\, Lausanne\, 1008\, Suisse
CATEGORIES:Soirée publique
END:VEVENT
BEGIN:VEVENT
DTSTART;TZID=Europe/Zurich:20220729T200000
DTEND;TZID=Europe/Zurich:20220729T215900
DTSTAMP:20260424T021344
CREATED:20220604T054837Z
LAST-MODIFIED:20220729T073248Z
UID:2037-1659124800-1659131940@svastro.ch
SUMMARY:Soirée publique - Annulée
DESCRIPTION:Mauvaise météo
URL:https://svastro.ch/event/soiree-publique-42/
LOCATION:Observatoire\, Observatoire de Lausanne chemin des Grandes-Roches 8\, Lausanne\, 1008\, Suisse
CATEGORIES:Soirée publique
END:VEVENT
END:VCALENDAR