BEGIN:VCALENDAR
VERSION:2.0
PRODID:-//Société Vaudoise d'Astronomie - ECPv6.15.20//NONSGML v1.0//EN
CALSCALE:GREGORIAN
METHOD:PUBLISH
X-WR-CALNAME:Société Vaudoise d'Astronomie
X-ORIGINAL-URL:https://svastro.ch
X-WR-CALDESC:Évènements pour Société Vaudoise d'Astronomie
REFRESH-INTERVAL;VALUE=DURATION:PT1H
X-Robots-Tag:noindex
X-PUBLISHED-TTL:PT1H
BEGIN:VTIMEZONE
TZID:Europe/Zurich
BEGIN:DAYLIGHT
TZOFFSETFROM:+0100
TZOFFSETTO:+0200
TZNAME:CEST
DTSTART:20210328T010000
END:DAYLIGHT
BEGIN:STANDARD
TZOFFSETFROM:+0200
TZOFFSETTO:+0100
TZNAME:CET
DTSTART:20211031T010000
END:STANDARD
BEGIN:DAYLIGHT
TZOFFSETFROM:+0100
TZOFFSETTO:+0200
TZNAME:CEST
DTSTART:20220327T010000
END:DAYLIGHT
BEGIN:STANDARD
TZOFFSETFROM:+0200
TZOFFSETTO:+0100
TZNAME:CET
DTSTART:20221030T010000
END:STANDARD
BEGIN:DAYLIGHT
TZOFFSETFROM:+0100
TZOFFSETTO:+0200
TZNAME:CEST
DTSTART:20230326T010000
END:DAYLIGHT
BEGIN:STANDARD
TZOFFSETFROM:+0200
TZOFFSETTO:+0100
TZNAME:CET
DTSTART:20231029T010000
END:STANDARD
END:VTIMEZONE
BEGIN:VEVENT
DTSTART;TZID=Europe/Zurich:20220610T200000
DTEND;TZID=Europe/Zurich:20220610T213000
DTSTAMP:20260424T035545
CREATED:20220604T054514Z
LAST-MODIFIED:20220608T145906Z
UID:2023-1654891200-1654896600@svastro.ch
SUMMARY:Soirée publique
DESCRIPTION:La soirée a bien lieu\, venez nombreux.
URL:https://svastro.ch/event/soiree-publique-35/
LOCATION:Observatoire\, Observatoire de Lausanne chemin des Grandes-Roches 8\, Lausanne\, 1008\, Suisse
CATEGORIES:Soirée publique
END:VEVENT
BEGIN:VEVENT
DTSTART;TZID=Europe/Zurich:20220615T203000
DTEND;TZID=Europe/Zurich:20220615T213000
DTSTAMP:20260424T035545
CREATED:20220604T061345Z
LAST-MODIFIED:20220615T062742Z
UID:2089-1655325000-1655328600@svastro.ch
SUMMARY:Soirée pour les membres - Voir les infos
DESCRIPTION:L’observation ayant lieu tard\, veuillez confirmer via WhatsApp votre venue.
URL:https://svastro.ch/event/soiree-pour-les-membres-5/
LOCATION:Observatoire\, Observatoire de Lausanne chemin des Grandes-Roches 8\, Lausanne\, 1008\, Suisse
CATEGORIES:Soirée membre
END:VEVENT
BEGIN:VEVENT
DTSTART;TZID=Europe/Zurich:20220617T200000
DTEND;TZID=Europe/Zurich:20220617T213000
DTSTAMP:20260424T035545
CREATED:20220604T054541Z
LAST-MODIFIED:20220615T183317Z
UID:2025-1655496000-1655501400@svastro.ch
SUMMARY:Soirée publique - info dans la description
DESCRIPTION:En cas de beau temps\, l’observatoire sera ouvert. \nLe solstice d’été étant proche\, les nuits de font courtes. L’observation pourra réellement commencer après 22h-22h30. \nNe prévoyez pas de venir trop tôt du vous ne voulez pas trop attendre.
URL:https://svastro.ch/event/soiree-publique-36/
LOCATION:Observatoire\, Observatoire de Lausanne chemin des Grandes-Roches 8\, Lausanne\, 1008\, Suisse
CATEGORIES:Soirée publique
END:VEVENT
BEGIN:VEVENT
DTSTART;TZID=Europe/Zurich:20220624T200000
DTEND;TZID=Europe/Zurich:20220624T213000
DTSTAMP:20260424T035545
CREATED:20220604T054611Z
LAST-MODIFIED:20220624T073925Z
UID:2027-1656100800-1656106200@svastro.ch
SUMMARY:Soirée publique - annulé
DESCRIPTION:Pas de soirée en raison de la couverture nuageuse
URL:https://svastro.ch/event/soiree-publique-37/
LOCATION:Observatoire\, Observatoire de Lausanne chemin des Grandes-Roches 8\, Lausanne\, 1008\, Suisse
CATEGORIES:Soirée publique
END:VEVENT
END:VCALENDAR