BEGIN:VCALENDAR
VERSION:2.0
PRODID:-//Société Vaudoise d'Astronomie - ECPv6.15.20//NONSGML v1.0//EN
CALSCALE:GREGORIAN
METHOD:PUBLISH
X-WR-CALNAME:Société Vaudoise d'Astronomie
X-ORIGINAL-URL:https://svastro.ch
X-WR-CALDESC:Évènements pour Société Vaudoise d'Astronomie
REFRESH-INTERVAL;VALUE=DURATION:PT1H
X-Robots-Tag:noindex
X-PUBLISHED-TTL:PT1H
BEGIN:VTIMEZONE
TZID:Europe/Zurich
BEGIN:DAYLIGHT
TZOFFSETFROM:+0100
TZOFFSETTO:+0200
TZNAME:CEST
DTSTART:20190331T010000
END:DAYLIGHT
BEGIN:STANDARD
TZOFFSETFROM:+0200
TZOFFSETTO:+0100
TZNAME:CET
DTSTART:20191027T010000
END:STANDARD
BEGIN:DAYLIGHT
TZOFFSETFROM:+0100
TZOFFSETTO:+0200
TZNAME:CEST
DTSTART:20200329T010000
END:DAYLIGHT
BEGIN:STANDARD
TZOFFSETFROM:+0200
TZOFFSETTO:+0100
TZNAME:CET
DTSTART:20201025T010000
END:STANDARD
BEGIN:DAYLIGHT
TZOFFSETFROM:+0100
TZOFFSETTO:+0200
TZNAME:CEST
DTSTART:20210328T010000
END:DAYLIGHT
BEGIN:STANDARD
TZOFFSETFROM:+0200
TZOFFSETTO:+0100
TZNAME:CET
DTSTART:20211031T010000
END:STANDARD
END:VTIMEZONE
BEGIN:VEVENT
DTSTART;TZID=Europe/Zurich:20201009T200000
DTEND;TZID=Europe/Zurich:20201009T223000
DTSTAMP:20260425T134950
CREATED:20201008T115644Z
LAST-MODIFIED:20201008T115644Z
UID:1386-1602273600-1602282600@svastro.ch
SUMMARY:Soirée publique - sur inscription
DESCRIPTION:INSCRIPTION OBLIGATOIRE ! \nRéservez le nombre de places correspondant aux nombre de personnes qui viennent avec vous. \nVeuillez svp venir équipé de votre propre masque.
URL:https://svastro.ch/event/soiree-publique-sur-inscription-3/
LOCATION:Observatoire\, Observatoire de Lausanne chemin des Grandes-Roches 8\, Lausanne\, 1008\, Suisse
CATEGORIES:Soirée publique
END:VEVENT
BEGIN:VEVENT
DTSTART;TZID=Europe/Zurich:20201016T200000
DTEND;TZID=Europe/Zurich:20201016T223000
DTSTAMP:20260425T134950
CREATED:20201008T115743Z
LAST-MODIFIED:20201016T150153Z
UID:1389-1602878400-1602887400@svastro.ch
SUMMARY:Soirée publique - Annulée pour cause de mauvaise météo
DESCRIPTION:INSCRIPTION OBLIGATOIRE ! \nRéservez le nombre de places correspondant aux nombre de personnes qui viennent avec vous. \nVeuillez svp venir équipé de votre propre masque.
URL:https://svastro.ch/event/soiree-publique-sur-inscription-4/
LOCATION:Observatoire\, Observatoire de Lausanne chemin des Grandes-Roches 8\, Lausanne\, 1008\, Suisse
CATEGORIES:Soirée publique
END:VEVENT
BEGIN:VEVENT
DTSTART;TZID=Europe/Zurich:20201023T200000
DTEND;TZID=Europe/Zurich:20201023T223000
DTSTAMP:20260425T134950
CREATED:20201008T115834Z
LAST-MODIFIED:20201023T180017Z
UID:1392-1603483200-1603492200@svastro.ch
SUMMARY:Soirée publique - annulée pour mauvaise météo
DESCRIPTION:INSCRIPTION OBLIGATOIRE ! \nRéservez le nombre de places correspondant aux nombre de personnes qui viennent avec vous. \nVeuillez svp venir équipé de votre propre masque.
URL:https://svastro.ch/event/soiree-publique-sur-inscription-5/
LOCATION:Observatoire\, Observatoire de Lausanne chemin des Grandes-Roches 8\, Lausanne\, 1008\, Suisse
CATEGORIES:Soirée publique
END:VEVENT
BEGIN:VEVENT
DTSTART;TZID=Europe/Zurich:20201030T200000
DTEND;TZID=Europe/Zurich:20201030T223000
DTSTAMP:20260425T134950
CREATED:20201008T115925Z
LAST-MODIFIED:20201008T115925Z
UID:1395-1604088000-1604097000@svastro.ch
SUMMARY:Soirée publique - sur inscription
DESCRIPTION:INSCRIPTION OBLIGATOIRE ! \nRéservez le nombre de places correspondant aux nombre de personnes qui viennent avec vous. \nVeuillez svp venir équipé de votre propre masque.
URL:https://svastro.ch/event/soiree-publique-sur-inscription-6/
LOCATION:Observatoire\, Observatoire de Lausanne chemin des Grandes-Roches 8\, Lausanne\, 1008\, Suisse
CATEGORIES:Soirée publique
END:VEVENT
END:VCALENDAR