BEGIN:VCALENDAR
VERSION:2.0
PRODID:-//Société Vaudoise d'Astronomie - ECPv6.15.20//NONSGML v1.0//EN
CALSCALE:GREGORIAN
METHOD:PUBLISH
X-WR-CALNAME:Société Vaudoise d'Astronomie
X-ORIGINAL-URL:https://svastro.ch
X-WR-CALDESC:Évènements pour Société Vaudoise d'Astronomie
REFRESH-INTERVAL;VALUE=DURATION:PT1H
X-Robots-Tag:noindex
X-PUBLISHED-TTL:PT1H
BEGIN:VTIMEZONE
TZID:Europe/Zurich
BEGIN:DAYLIGHT
TZOFFSETFROM:+0100
TZOFFSETTO:+0200
TZNAME:CEST
DTSTART:20190331T010000
END:DAYLIGHT
BEGIN:STANDARD
TZOFFSETFROM:+0200
TZOFFSETTO:+0100
TZNAME:CET
DTSTART:20191027T010000
END:STANDARD
BEGIN:DAYLIGHT
TZOFFSETFROM:+0100
TZOFFSETTO:+0200
TZNAME:CEST
DTSTART:20200329T010000
END:DAYLIGHT
BEGIN:STANDARD
TZOFFSETFROM:+0200
TZOFFSETTO:+0100
TZNAME:CET
DTSTART:20201025T010000
END:STANDARD
BEGIN:DAYLIGHT
TZOFFSETFROM:+0100
TZOFFSETTO:+0200
TZNAME:CEST
DTSTART:20210328T010000
END:DAYLIGHT
BEGIN:STANDARD
TZOFFSETFROM:+0200
TZOFFSETTO:+0100
TZNAME:CET
DTSTART:20211031T010000
END:STANDARD
END:VTIMEZONE
BEGIN:VEVENT
DTSTART;TZID=Europe/Zurich:20200916T200000
DTEND;TZID=Europe/Zurich:20200916T223000
DTSTAMP:20260425T153304
CREATED:20200913T104730Z
LAST-MODIFIED:20200913T104730Z
UID:1361-1600286400-1600295400@svastro.ch
SUMMARY:Soirée membre - sur inscription
DESCRIPTION:Les places sont limitées\, veuillez vous inscrire via le formulaire ci-dessous.
URL:https://svastro.ch/event/soiree-membre-sur-inscription-4/
LOCATION:Observatoire\, Observatoire de Lausanne chemin des Grandes-Roches 8\, Lausanne\, 1008\, Suisse
CATEGORIES:Soirée membre
END:VEVENT
BEGIN:VEVENT
DTSTART;TZID=Europe/Zurich:20200918T200000
DTEND;TZID=Europe/Zurich:20200918T223000
DTSTAMP:20260425T153304
CREATED:20200913T105023Z
LAST-MODIFIED:20200913T105135Z
UID:1364-1600459200-1600468200@svastro.ch
SUMMARY:Soirée publique - sur inscription
DESCRIPTION:INSCRIPTION OBLIGATOIRE ! \nRéservez le nombre de places correspondant aux nombre de personnes qui viennent avec vous. \nVeuillez svp venir équipé de votre propre masque.
URL:https://svastro.ch/event/soiree-publique-sur-inscription/
LOCATION:Observatoire\, Observatoire de Lausanne chemin des Grandes-Roches 8\, Lausanne\, 1008\, Suisse
CATEGORIES:Soirée publique
END:VEVENT
BEGIN:VEVENT
DTSTART;TZID=Europe/Zurich:20200925T200000
DTEND;TZID=Europe/Zurich:20200925T223000
DTSTAMP:20260425T153304
CREATED:20200913T105121Z
LAST-MODIFIED:20200913T105121Z
UID:1367-1601064000-1601073000@svastro.ch
SUMMARY:Soirée publique - sur inscription
DESCRIPTION:INSCRIPTION OBLIGATOIRE ! \nRéservez le nombre de places correspondant aux nombre de personnes qui viennent avec vous. \nVeuillez svp venir équipé de votre propre masque.
URL:https://svastro.ch/event/soiree-publique-sur-inscription-2/
LOCATION:Observatoire\, Observatoire de Lausanne chemin des Grandes-Roches 8\, Lausanne\, 1008\, Suisse
CATEGORIES:Soirée publique
END:VEVENT
END:VCALENDAR