BEGIN:VCALENDAR
VERSION:2.0
PRODID:-//Société Vaudoise d'Astronomie - ECPv6.15.20//NONSGML v1.0//EN
CALSCALE:GREGORIAN
METHOD:PUBLISH
X-ORIGINAL-URL:https://svastro.ch
X-WR-CALDESC:Évènements pour Société Vaudoise d'Astronomie
REFRESH-INTERVAL;VALUE=DURATION:PT1H
X-Robots-Tag:noindex
X-PUBLISHED-TTL:PT1H
BEGIN:VTIMEZONE
TZID:Europe/Zurich
BEGIN:DAYLIGHT
TZOFFSETFROM:+0100
TZOFFSETTO:+0200
TZNAME:CEST
DTSTART:20190331T010000
END:DAYLIGHT
BEGIN:STANDARD
TZOFFSETFROM:+0200
TZOFFSETTO:+0100
TZNAME:CET
DTSTART:20191027T010000
END:STANDARD
BEGIN:DAYLIGHT
TZOFFSETFROM:+0100
TZOFFSETTO:+0200
TZNAME:CEST
DTSTART:20200329T010000
END:DAYLIGHT
BEGIN:STANDARD
TZOFFSETFROM:+0200
TZOFFSETTO:+0100
TZNAME:CET
DTSTART:20201025T010000
END:STANDARD
BEGIN:DAYLIGHT
TZOFFSETFROM:+0100
TZOFFSETTO:+0200
TZNAME:CEST
DTSTART:20210328T010000
END:DAYLIGHT
BEGIN:STANDARD
TZOFFSETFROM:+0200
TZOFFSETTO:+0100
TZNAME:CET
DTSTART:20211031T010000
END:STANDARD
END:VTIMEZONE
BEGIN:VEVENT
DTSTART;TZID=Europe/Zurich:20200715T200000
DTEND;TZID=Europe/Zurich:20200715T223000
DTSTAMP:20260425T192127
CREATED:20200709T082416Z
LAST-MODIFIED:20200709T082626Z
UID:1317-1594843200-1594852200@svastro.ch
SUMMARY:Formation à l'utilisation du télescope
DESCRIPTION:La soirée se fait sur inscription\, merci de réserver une place seulement si vous êtes sûr de venir.
URL:https://svastro.ch/event/formation-a-lutilisation-du-telescope/
LOCATION:Observatoire\, Observatoire de Lausanne chemin des Grandes-Roches 8\, Lausanne\, 1008\, Suisse
CATEGORIES:Soirée membre
END:VEVENT
BEGIN:VEVENT
DTSTART;TZID=Europe/Zurich:20200722T200000
DTEND;TZID=Europe/Zurich:20200722T223000
DTSTAMP:20260425T192127
CREATED:20200721T112313Z
LAST-MODIFIED:20200721T112313Z
UID:1326-1595448000-1595457000@svastro.ch
SUMMARY:Pas de soirée membre - mauvaise météo
DESCRIPTION:Pas de soirée membre en raison de la couverture nuageuse.
URL:https://svastro.ch/event/pas-de-soiree-membre-mauvaise-meteo/
LOCATION:Observatoire\, Observatoire de Lausanne chemin des Grandes-Roches 8\, Lausanne\, 1008\, Suisse
CATEGORIES:Soirée membre
END:VEVENT
BEGIN:VEVENT
DTSTART;TZID=Europe/Zurich:20200729T200000
DTEND;TZID=Europe/Zurich:20200729T223000
DTSTAMP:20260425T192127
CREATED:20200727T181944Z
LAST-MODIFIED:20200727T181944Z
UID:1328-1596052800-1596061800@svastro.ch
SUMMARY:Soirée membre - Sur inscription
DESCRIPTION:Les places sont limitées\, veuillez vous inscrire via le formulaire ci-dessous.
URL:https://svastro.ch/event/soiree-membre-sur-inscription/
LOCATION:Observatoire\, Observatoire de Lausanne chemin des Grandes-Roches 8\, Lausanne\, 1008\, Suisse
CATEGORIES:Soirée membre
END:VEVENT
BEGIN:VEVENT
DTSTART;TZID=Europe/Zurich:20200731T200000
DTEND;TZID=Europe/Zurich:20200731T223000
DTSTAMP:20260425T192127
CREATED:20200731T133516Z
LAST-MODIFIED:20200731T133516Z
UID:1334-1596225600-1596234600@svastro.ch
SUMMARY:Pas de soirée publique
DESCRIPTION:Pour plus d’info\, consultez nos dernières publications sur la page d’accueil du site.
URL:https://svastro.ch/event/pas-de-soiree-publique/
LOCATION:Observatoire\, Observatoire de Lausanne chemin des Grandes-Roches 8\, Lausanne\, 1008\, Suisse
CATEGORIES:Soirée publique
END:VEVENT
END:VCALENDAR