BEGIN:VCALENDAR
VERSION:2.0
PRODID:-//Société Vaudoise d'Astronomie - ECPv6.15.20//NONSGML v1.0//EN
CALSCALE:GREGORIAN
METHOD:PUBLISH
X-ORIGINAL-URL:https://svastro.ch
X-WR-CALDESC:Évènements pour Société Vaudoise d'Astronomie
REFRESH-INTERVAL;VALUE=DURATION:PT1H
X-Robots-Tag:noindex
X-PUBLISHED-TTL:PT1H
BEGIN:VTIMEZONE
TZID:Europe/Zurich
BEGIN:DAYLIGHT
TZOFFSETFROM:+0100
TZOFFSETTO:+0200
TZNAME:CEST
DTSTART:20190331T010000
END:DAYLIGHT
BEGIN:STANDARD
TZOFFSETFROM:+0200
TZOFFSETTO:+0100
TZNAME:CET
DTSTART:20191027T010000
END:STANDARD
BEGIN:DAYLIGHT
TZOFFSETFROM:+0100
TZOFFSETTO:+0200
TZNAME:CEST
DTSTART:20200329T010000
END:DAYLIGHT
BEGIN:STANDARD
TZOFFSETFROM:+0200
TZOFFSETTO:+0100
TZNAME:CET
DTSTART:20201025T010000
END:STANDARD
BEGIN:DAYLIGHT
TZOFFSETFROM:+0100
TZOFFSETTO:+0200
TZNAME:CEST
DTSTART:20210328T010000
END:DAYLIGHT
BEGIN:STANDARD
TZOFFSETFROM:+0200
TZOFFSETTO:+0100
TZNAME:CET
DTSTART:20211031T010000
END:STANDARD
END:VTIMEZONE
BEGIN:VEVENT
DTSTART;TZID=Europe/Zurich:20200110T200000
DTEND;TZID=Europe/Zurich:20200110T223000
DTSTAMP:20260426T061448
CREATED:20200110T204349Z
LAST-MODIFIED:20200110T204349Z
UID:1295-1578686400-1578695400@svastro.ch
SUMMARY:Soirée publique - mauvaise météo
DESCRIPTION:Pas de soirée en raison de la couverture nuageuse.
URL:https://svastro.ch/event/soiree-publique-mauvaise-meteo-2/
LOCATION:Observatoire\, Observatoire de Lausanne chemin des Grandes-Roches 8\, Lausanne\, 1008\, Suisse
CATEGORIES:Soirée publique
END:VEVENT
BEGIN:VEVENT
DTSTART;TZID=Europe/Zurich:20200115T200000
DTEND;TZID=Europe/Zurich:20200115T200000
DTSTAMP:20260426T061448
CREATED:20200115T113143Z
LAST-MODIFIED:20200115T113143Z
UID:1297-1579118400-1579118400@svastro.ch
SUMMARY:Soirée membre - pas de soirée
DESCRIPTION:Couverture nuageuse en début de soirée\, l’observation ne sera pas possible
URL:https://svastro.ch/event/soiree-membre-pas-de-soiree-5/
LOCATION:Observatoire\, Observatoire de Lausanne chemin des Grandes-Roches 8\, Lausanne\, 1008\, Suisse
CATEGORIES:Soirée membre
END:VEVENT
BEGIN:VEVENT
DTSTART;TZID=Europe/Zurich:20200122T203000
DTEND;TZID=Europe/Zurich:20200122T220000
DTSTAMP:20260426T061448
CREATED:20200122T135103Z
LAST-MODIFIED:20200122T135103Z
UID:1300-1579725000-1579730400@svastro.ch
SUMMARY:Soirée membre
DESCRIPTION:Attention à l’heure de début
URL:https://svastro.ch/event/soiree-membre-31/
LOCATION:Observatoire\, Observatoire de Lausanne chemin des Grandes-Roches 8\, Lausanne\, 1008\, Suisse
CATEGORIES:Soirée membre
END:VEVENT
BEGIN:VEVENT
DTSTART;TZID=Europe/Zurich:20200124T200000
DTEND;TZID=Europe/Zurich:20200124T200000
DTSTAMP:20260426T061448
CREATED:20200124T200946Z
LAST-MODIFIED:20200124T200946Z
UID:1302-1579896000-1579896000@svastro.ch
SUMMARY:Soirée publique - pas de soirée
DESCRIPTION:Pas de soirée en raison de la couverture nuageuse.
URL:https://svastro.ch/event/soiree-publique-pas-de-soiree-3/
LOCATION:Observatoire\, Observatoire de Lausanne chemin des Grandes-Roches 8\, Lausanne\, 1008\, Suisse
CATEGORIES:Soirée publique
END:VEVENT
BEGIN:VEVENT
DTSTART;TZID=Europe/Zurich:20200129T190000
DTEND;TZID=Europe/Zurich:20200129T210000
DTSTAMP:20260426T061448
CREATED:20200129T082858Z
LAST-MODIFIED:20200129T082858Z
UID:1304-1580324400-1580331600@svastro.ch
SUMMARY:Soirée membre
DESCRIPTION:Daniel Vuilleumier vous propose la conférence suivante: \nFace à face avec votre public \nPouvoir disposer de quelques éléments-clés pour parler\, transmettre\, échanger en abordant les aspects de préparation\, comportement\, gestuelle\, langage\, avec un public varié.
URL:https://svastro.ch/event/soiree-membre-32/
LOCATION:Observatoire\, Observatoire de Lausanne chemin des Grandes-Roches 8\, Lausanne\, 1008\, Suisse
CATEGORIES:Soirée membre
END:VEVENT
END:VCALENDAR