BEGIN:VCALENDAR
VERSION:2.0
PRODID:-//Société Vaudoise d'Astronomie - ECPv6.15.20//NONSGML v1.0//EN
CALSCALE:GREGORIAN
METHOD:PUBLISH
X-ORIGINAL-URL:https://svastro.ch
X-WR-CALDESC:Évènements pour Société Vaudoise d'Astronomie
REFRESH-INTERVAL;VALUE=DURATION:PT1H
X-Robots-Tag:noindex
X-PUBLISHED-TTL:PT1H
BEGIN:VTIMEZONE
TZID:Europe/Zurich
BEGIN:DAYLIGHT
TZOFFSETFROM:+0100
TZOFFSETTO:+0200
TZNAME:CEST
DTSTART:20250330T010000
END:DAYLIGHT
BEGIN:STANDARD
TZOFFSETFROM:+0200
TZOFFSETTO:+0100
TZNAME:CET
DTSTART:20251026T010000
END:STANDARD
BEGIN:DAYLIGHT
TZOFFSETFROM:+0100
TZOFFSETTO:+0200
TZNAME:CEST
DTSTART:20260329T010000
END:DAYLIGHT
BEGIN:STANDARD
TZOFFSETFROM:+0200
TZOFFSETTO:+0100
TZNAME:CET
DTSTART:20261025T010000
END:STANDARD
BEGIN:DAYLIGHT
TZOFFSETFROM:+0100
TZOFFSETTO:+0200
TZNAME:CEST
DTSTART:20270328T010000
END:DAYLIGHT
BEGIN:STANDARD
TZOFFSETFROM:+0200
TZOFFSETTO:+0100
TZNAME:CET
DTSTART:20271031T010000
END:STANDARD
END:VTIMEZONE
BEGIN:VEVENT
DTSTART;TZID=Europe/Zurich:20260204T200000
DTEND;TZID=Europe/Zurich:20260204T220000
DTSTAMP:20260425T180337
CREATED:20251217T002801Z
LAST-MODIFIED:20251217T002801Z
UID:5269-1770235200-1770242400@svastro.ch
SUMMARY:Soirée membres
DESCRIPTION:Premier mercredi du mois\, on se retrouve pour discuter de l’actualité. Venez avec vos questions et/ou articles favoris.
URL:https://svastro.ch/event/soiree-membres-23/
LOCATION:Observatoire\, Observatoire de Lausanne chemin des Grandes-Roches 8\, Lausanne\, 1008\, Suisse
CATEGORIES:Soirée membre
ORGANIZER;CN="SVA":MAILTO:info@svastro.ch
END:VEVENT
BEGIN:VEVENT
DTSTART;TZID=Europe/Zurich:20260206T200000
DTEND;TZID=Europe/Zurich:20260206T233000
DTSTAMP:20260425T180337
CREATED:20251217T002558Z
LAST-MODIFIED:20251217T002558Z
UID:5265-1770408000-1770420600@svastro.ch
SUMMARY:Soirée pour les membres - observations en campagne
DESCRIPTION:En cas de ciel dégagé uniquement.
URL:https://svastro.ch/event/soiree-pour-les-membres-observations-en-campagne-34/
LOCATION:Villars-Tiercelin\, Avenue du Général Guisan\, Villars-Tiercelin\, Vaud\, 1058\, Suisse
CATEGORIES:Soirée membre
ORGANIZER;CN="SVA":MAILTO:info@svastro.ch
END:VEVENT
BEGIN:VEVENT
DTSTART;TZID=Europe/Zurich:20260218T200000
DTEND;TZID=Europe/Zurich:20260218T220000
DTSTAMP:20260425T180337
CREATED:20251217T003015Z
LAST-MODIFIED:20260218T180926Z
UID:5273-1771444800-1771452000@svastro.ch
SUMMARY:Soirée membres - ANNULÉE
DESCRIPTION:En raison de conditions météorologiques défavorables\, l’observatoire sera fermé ce 18 février.\nMerci de votre compréhension !
URL:https://svastro.ch/event/soiree-membres-25/
LOCATION:Observatoire\, Observatoire de Lausanne chemin des Grandes-Roches 8\, Lausanne\, 1008\, Suisse
CATEGORIES:Soirée membre
ORGANIZER;CN="SVA":MAILTO:info@svastro.ch
END:VEVENT
END:VCALENDAR