BEGIN:VCALENDAR
VERSION:2.0
PRODID:-//Société Vaudoise d'Astronomie - ECPv6.15.20//NONSGML v1.0//EN
CALSCALE:GREGORIAN
METHOD:PUBLISH
X-ORIGINAL-URL:https://svastro.ch
X-WR-CALDESC:Évènements pour Société Vaudoise d'Astronomie
REFRESH-INTERVAL;VALUE=DURATION:PT1H
X-Robots-Tag:noindex
X-PUBLISHED-TTL:PT1H
BEGIN:VTIMEZONE
TZID:Europe/Zurich
BEGIN:DAYLIGHT
TZOFFSETFROM:+0100
TZOFFSETTO:+0200
TZNAME:CEST
DTSTART:20240331T010000
END:DAYLIGHT
BEGIN:STANDARD
TZOFFSETFROM:+0200
TZOFFSETTO:+0100
TZNAME:CET
DTSTART:20241027T010000
END:STANDARD
BEGIN:DAYLIGHT
TZOFFSETFROM:+0100
TZOFFSETTO:+0200
TZNAME:CEST
DTSTART:20250330T010000
END:DAYLIGHT
BEGIN:STANDARD
TZOFFSETFROM:+0200
TZOFFSETTO:+0100
TZNAME:CET
DTSTART:20251026T010000
END:STANDARD
BEGIN:DAYLIGHT
TZOFFSETFROM:+0100
TZOFFSETTO:+0200
TZNAME:CEST
DTSTART:20260329T010000
END:DAYLIGHT
BEGIN:STANDARD
TZOFFSETFROM:+0200
TZOFFSETTO:+0100
TZNAME:CET
DTSTART:20261025T010000
END:STANDARD
END:VTIMEZONE
BEGIN:VEVENT
DTSTART;TZID=Europe/Zurich:20250903T180000
DTEND;TZID=Europe/Zurich:20250903T220000
DTSTAMP:20260426T033442
CREATED:20250528T142147Z
LAST-MODIFIED:20250827T160154Z
UID:4551-1756922400-1756936800@svastro.ch
SUMMARY:Soirée membres - Barbecue
DESCRIPTION:Barbecue des membres. Plus d’infos à suivre.
URL:https://svastro.ch/event/soiree-membres-14/
LOCATION:Observatoire\, Observatoire de Lausanne chemin des Grandes-Roches 8\, Lausanne\, 1008\, Suisse
CATEGORIES:Soirée membre
ORGANIZER;CN="SVA":MAILTO:info@svastro.ch
END:VEVENT
BEGIN:VEVENT
DTSTART;TZID=Europe/Zurich:20250903T200000
DTEND;TZID=Europe/Zurich:20250903T220000
DTSTAMP:20260426T033442
CREATED:20250528T143127Z
LAST-MODIFIED:20250528T143127Z
UID:4565-1756929600-1756936800@svastro.ch
SUMMARY:Soirée membres
DESCRIPTION:Premier mercredi du mois\, on se retrouve pour discuter de l’actualité. Venez avec vos questions et/ou articles favoris.
URL:https://svastro.ch/event/soiree-membres-15/
LOCATION:Observatoire\, Observatoire de Lausanne chemin des Grandes-Roches 8\, Lausanne\, 1008\, Suisse
CATEGORIES:Soirée membre
ORGANIZER;CN="SVA":MAILTO:info@svastro.ch
END:VEVENT
BEGIN:VEVENT
DTSTART;TZID=Europe/Zurich:20250905T200000
DTEND;TZID=Europe/Zurich:20250905T230000
DTSTAMP:20260426T033442
CREATED:20250528T143225Z
LAST-MODIFIED:20250528T143225Z
UID:4567-1757102400-1757113200@svastro.ch
SUMMARY:Soirée pour les membres – observations en campagne
DESCRIPTION:En cas de ciel dégagé uniquement.
URL:https://svastro.ch/event/soiree-pour-les-membres-observations-en-campagne-30/
LOCATION:Villars-Tiercelin\, Avenue du Général Guisan\, Villars-Tiercelin\, Vaud\, 1058\, Suisse
CATEGORIES:Soirée membre
ORGANIZER;CN="SVA":MAILTO:info@svastro.ch
END:VEVENT
BEGIN:VEVENT
DTSTART;TZID=Europe/Zurich:20250917T200000
DTEND;TZID=Europe/Zurich:20250917T220000
DTSTAMP:20260426T033442
CREATED:20250528T143317Z
LAST-MODIFIED:20250701T130119Z
UID:4569-1758139200-1758146400@svastro.ch
SUMMARY:Soirée membres - Astrophoto II
DESCRIPTION:On apprend à traiter des photos pour l’astronomie.
URL:https://svastro.ch/event/soiree-membres-16/
LOCATION:Observatoire\, Observatoire de Lausanne chemin des Grandes-Roches 8\, Lausanne\, 1008\, Suisse
CATEGORIES:Soirée membre
ORGANIZER;CN="SVA":MAILTO:info@svastro.ch
END:VEVENT
END:VCALENDAR