BEGIN:VCALENDAR
VERSION:2.0
PRODID:-//Société Vaudoise d'Astronomie - ECPv6.15.20//NONSGML v1.0//EN
CALSCALE:GREGORIAN
METHOD:PUBLISH
X-WR-CALNAME:Société Vaudoise d'Astronomie
X-ORIGINAL-URL:https://svastro.ch
X-WR-CALDESC:Évènements pour Société Vaudoise d'Astronomie
REFRESH-INTERVAL;VALUE=DURATION:PT1H
X-Robots-Tag:noindex
X-PUBLISHED-TTL:PT1H
BEGIN:VTIMEZONE
TZID:Europe/Zurich
BEGIN:DAYLIGHT
TZOFFSETFROM:+0100
TZOFFSETTO:+0200
TZNAME:CEST
DTSTART:20250330T010000
END:DAYLIGHT
BEGIN:STANDARD
TZOFFSETFROM:+0200
TZOFFSETTO:+0100
TZNAME:CET
DTSTART:20251026T010000
END:STANDARD
BEGIN:DAYLIGHT
TZOFFSETFROM:+0100
TZOFFSETTO:+0200
TZNAME:CEST
DTSTART:20260329T010000
END:DAYLIGHT
BEGIN:STANDARD
TZOFFSETFROM:+0200
TZOFFSETTO:+0100
TZNAME:CET
DTSTART:20261025T010000
END:STANDARD
BEGIN:DAYLIGHT
TZOFFSETFROM:+0100
TZOFFSETTO:+0200
TZNAME:CEST
DTSTART:20270328T010000
END:DAYLIGHT
BEGIN:STANDARD
TZOFFSETFROM:+0200
TZOFFSETTO:+0100
TZNAME:CET
DTSTART:20271031T010000
END:STANDARD
END:VTIMEZONE
BEGIN:VEVENT
DTSTART;TZID=Europe/Zurich:20260424T210000
DTEND;TZID=Europe/Zurich:20260424T233000
DTSTAMP:20260424T021753
CREATED:20260320T091921Z
LAST-MODIFIED:20260414T110221Z
UID:5651-1777064400-1777073400@svastro.ch
SUMMARY:Soirée publique
DESCRIPTION:En cas de beau temps\, l’observatoire sera ouvert. \nMerci de prendre note qu’en cas de temps incertain\, l’information peut être mise à jour dans le calendrier du site\, le jour même\, durant l’après-midi. \nInscription gratuite conseillée. En cas de forte affluence\, priorité sera donnée aux personnes s’étant inscrites préalablement (inscription possible le jour même). \nDes photos et/ou vidéos peuvent être prises lors de cet événement\, dans le but d’informer les membres et les personnes qui suivent les activités de la SVA\, entre autres sur les réseaux sociaux.\nSi vous ne souhaitez pas apparaître sur celles-ci\, merci d’en informer l’animateur responsable lors de votre visite.\nSans avis explicite de votre part\, vous acceptez\, par la lecture de ce texte\, d’être filmé·e et d’apparaître sur les publications de la SVA.
URL:https://svastro.ch/event/soiree-publique-185/
LOCATION:Observatoire\, Observatoire de Lausanne chemin des Grandes-Roches 8\, Lausanne\, 1008\, Suisse
CATEGORIES:Soirée publique
ORGANIZER;CN="SVA":MAILTO:info@svastro.ch
END:VEVENT
END:VCALENDAR